BEGIN:VCALENDAR
VERSION:2.0
PRODID:-//Warren Coalition - ECPv6.15.11//NONSGML v1.0//EN
CALSCALE:GREGORIAN
METHOD:PUBLISH
X-ORIGINAL-URL:https://warrencoalition.org
X-WR-CALDESC:Events for Warren Coalition
REFRESH-INTERVAL;VALUE=DURATION:PT1H
X-Robots-Tag:noindex
X-PUBLISHED-TTL:PT1H
BEGIN:VTIMEZONE
TZID:America/New_York
BEGIN:DAYLIGHT
TZOFFSETFROM:-0500
TZOFFSETTO:-0400
TZNAME:EDT
DTSTART:20230312T070000
END:DAYLIGHT
BEGIN:STANDARD
TZOFFSETFROM:-0400
TZOFFSETTO:-0500
TZNAME:EST
DTSTART:20231105T060000
END:STANDARD
BEGIN:DAYLIGHT
TZOFFSETFROM:-0500
TZOFFSETTO:-0400
TZNAME:EDT
DTSTART:20240310T070000
END:DAYLIGHT
BEGIN:STANDARD
TZOFFSETFROM:-0400
TZOFFSETTO:-0500
TZNAME:EST
DTSTART:20241103T060000
END:STANDARD
BEGIN:DAYLIGHT
TZOFFSETFROM:-0500
TZOFFSETTO:-0400
TZNAME:EDT
DTSTART:20250309T070000
END:DAYLIGHT
BEGIN:STANDARD
TZOFFSETFROM:-0400
TZOFFSETTO:-0500
TZNAME:EST
DTSTART:20251102T060000
END:STANDARD
END:VTIMEZONE
BEGIN:VEVENT
DTSTART;TZID=America/New_York:20240301T080000
DTEND;TZID=America/New_York:20240401T235900
DTSTAMP:20260421T195658
CREATED:20240313T164125Z
LAST-MODIFIED:20240313T184611Z
UID:3668-1709280000-1712015940@warrencoalition.org
SUMMARY:Youth Have Talent Virtual Auditions
DESCRIPTION:The Warren Coalition proudly presents the 2024 Youth Have Talent Contest! Middle and High school students from Warren County are invited to participate in this annual competition for cash prizes. Singers\, dancers\, musicians\, comedians (keep it clean!)\, jugglers—whatever talent you have\, this is your time to shine! \n\n\n\n\n\n\n\n\n\nThe Coalition is now accepting virtual auditions now through April 1\, 2024. Auditions (two minutes or less) may be submitted via the Warren Coalition website at https://warrencoalition.org/youth-have-talent-virtual-audition-form/. \n\n\n\nRules:  \n\n\n\n\nContestants MUST be between the ages of 11 and 18.\n\n\n\nContestants MUST be living in Warren County at the time of submission.\n\n\n\nNo swearing or using any kind of vulgar\, racist\, gender negative or explicit language throughout the submission.\n\n\n\nAll contestants must be fully clothed and not wear suggestive clothing.\n\n\n\nThere cannot be any weapon in the video. This includes guns\, knives\, or any kind of threatening prop that could be interpreted as dangerous or threatening.\n\n\n\nNo suggestive dancing.\n\n\n\nAbsolutely no reference to any kind of substance including but not limited to alcohol\, tobacco\, marijuana/cannabis\, pills\, etc.\n\n\n\nAny submissions showcasing the list above will result in immediate disqualification.\n\n\n\nThere will be two categories: music\, and non-music talent.\n\n\n\n\nThose selected from the auditions will go on to compete in a live show at 2 pm on Sunday\, April 14th at Warren County High School\, with cash prizes up for grabs! For more information\, contact Gabriel Lee at gabriel@warrencoalition.org.
URL:https://warrencoalition.org/event/yht-virtual-auditions-2024/
END:VEVENT
BEGIN:VEVENT
DTSTART;TZID=America/New_York:20240323T080000
DTEND;TZID=America/New_York:20240323T103000
DTSTAMP:20260421T195658
CREATED:20240221T183334Z
LAST-MODIFIED:20240221T183336Z
UID:3614-1711180800-1711189800@warrencoalition.org
SUMMARY:Edward Jones 5K Race for Education 2024
DESCRIPTION:Local high school athletes and students will once again benefit from the Edward Jones 5K Race for Education\, which will be held Saturday\, March 23rd at Warren County Middle School. This annual fundraiser\, led by Edward Jones and Warren Coalition\, supports the Warren County High School and Skyline High School cross country teams. It also provides scholarship funds the Warren Coalition awards to local high school students\, to cover Advanced Placement testing fees and dual enrollment classes at Laurel Ridge Community College. \n\n\n\nThe course follows the length of Leach Run Parkway and back. Registration begins at 8:00 am; the race will begin at 9:00 am. Walkers are welcome to register and participate in the camaraderie and supporting these local causes. Baby strollers and dogs are also welcome. \n\n\n\nSince its inception in 2007\, the Edward Jones 5K Race for Education has raised over $61\,000. \n\n\n\nLearn more on the Facebook page at facebook.com/EdwardJones5k\, or register at bit.ly/ej5k2024 (link is case-sensitive) to pre-register for the race. Early registration is currently $25 per adult participant and $20 for students; the cost will increase to $30 for adults on March 1st and $25 for students on March 8th. Same-day registrations will be accepted.
URL:https://warrencoalition.org/event/ej5k-2024/
END:VEVENT
END:VCALENDAR