BEGIN:VCALENDAR
VERSION:2.0
PRODID:-//Warren Coalition - ECPv6.15.11//NONSGML v1.0//EN
CALSCALE:GREGORIAN
METHOD:PUBLISH
X-ORIGINAL-URL:https://warrencoalition.org
X-WR-CALDESC:Events for Warren Coalition
REFRESH-INTERVAL;VALUE=DURATION:PT1H
X-Robots-Tag:noindex
X-PUBLISHED-TTL:PT1H
BEGIN:VTIMEZONE
TZID:America/New_York
BEGIN:DAYLIGHT
TZOFFSETFROM:-0500
TZOFFSETTO:-0400
TZNAME:EDT
DTSTART:20230312T070000
END:DAYLIGHT
BEGIN:STANDARD
TZOFFSETFROM:-0400
TZOFFSETTO:-0500
TZNAME:EST
DTSTART:20231105T060000
END:STANDARD
BEGIN:DAYLIGHT
TZOFFSETFROM:-0500
TZOFFSETTO:-0400
TZNAME:EDT
DTSTART:20240310T070000
END:DAYLIGHT
BEGIN:STANDARD
TZOFFSETFROM:-0400
TZOFFSETTO:-0500
TZNAME:EST
DTSTART:20241103T060000
END:STANDARD
BEGIN:DAYLIGHT
TZOFFSETFROM:-0500
TZOFFSETTO:-0400
TZNAME:EDT
DTSTART:20250309T070000
END:DAYLIGHT
BEGIN:STANDARD
TZOFFSETFROM:-0400
TZOFFSETTO:-0500
TZNAME:EST
DTSTART:20251102T060000
END:STANDARD
END:VTIMEZONE
BEGIN:VEVENT
DTSTART;TZID=America/New_York:20240905T084500
DTEND;TZID=America/New_York:20240905T094500
DTSTAMP:20260421T213451
CREATED:20240821T150725Z
LAST-MODIFIED:20240821T150728Z
UID:4034-1725525900-1725529500@warrencoalition.org
SUMMARY:Warren County IRL/Global Day of Unplugging Planning Meeting
DESCRIPTION:The Global Day of Unplugging will be March 7-8\, 2025! We had great participation in our first “Warren County IRL” event in 2024. Let’s meet up and discuss how to make it even better for 2025! We will be in Room 4 in the Community Center (538 Villa Ave) on September 5 at 8:45 am. Email celeste@warrencoalition.org if you would plan to attend.
URL:https://warrencoalition.org/event/warren-county-irl-global-day-of-unplugging-planning-meeting/
LOCATION:Warren County Community Center\, 538 Villa Avenue\, Front Royal\, Virginia\, 22630\, United States
CATEGORIES:Meetings
ORGANIZER;CN="Warren Coalition":MAILTO:wc@warrencoalition.org
END:VEVENT
END:VCALENDAR