BEGIN:VCALENDAR
VERSION:2.0
PRODID:-//Warren Coalition - ECPv6.15.11//NONSGML v1.0//EN
CALSCALE:GREGORIAN
METHOD:PUBLISH
X-ORIGINAL-URL:https://warrencoalition.org
X-WR-CALDESC:Events for Warren Coalition
REFRESH-INTERVAL;VALUE=DURATION:PT1H
X-Robots-Tag:noindex
X-PUBLISHED-TTL:PT1H
BEGIN:VTIMEZONE
TZID:America/New_York
BEGIN:DAYLIGHT
TZOFFSETFROM:-0500
TZOFFSETTO:-0400
TZNAME:EDT
DTSTART:20240310T070000
END:DAYLIGHT
BEGIN:STANDARD
TZOFFSETFROM:-0400
TZOFFSETTO:-0500
TZNAME:EST
DTSTART:20241103T060000
END:STANDARD
BEGIN:DAYLIGHT
TZOFFSETFROM:-0500
TZOFFSETTO:-0400
TZNAME:EDT
DTSTART:20250309T070000
END:DAYLIGHT
BEGIN:STANDARD
TZOFFSETFROM:-0400
TZOFFSETTO:-0500
TZNAME:EST
DTSTART:20251102T060000
END:STANDARD
BEGIN:DAYLIGHT
TZOFFSETFROM:-0500
TZOFFSETTO:-0400
TZNAME:EDT
DTSTART:20260308T070000
END:DAYLIGHT
BEGIN:STANDARD
TZOFFSETFROM:-0400
TZOFFSETTO:-0500
TZNAME:EST
DTSTART:20261101T060000
END:STANDARD
END:VTIMEZONE
BEGIN:VEVENT
DTSTART;TZID=America/New_York:20250307T174500
DTEND;TZID=America/New_York:20250307T220000
DTSTAMP:20260421T113027
CREATED:20250128T203001Z
LAST-MODIFIED:20250128T203057Z
UID:4440-1741369500-1741384800@warrencoalition.org
SUMMARY:Youth Unplugged Party
DESCRIPTION:A fun event for all Warren County Youth!  \n\n\n\nAges 11-18 will enjoy cornhole and volleyball tournaments\, backyard games\, and arts & crafts at the 15th Street Gym. \n\n\n\nAges 4-11 can win prizes while playing bingo and learning about resilience and cell phone use with their parents at Diversified Minds. There will also be archery\, inflatable bowling\, and arts and crafts! \n\n\n\nLearn more on our event page.
URL:https://warrencoalition.org/event/youth-unplugged-party/
END:VEVENT
BEGIN:VEVENT
DTSTART;TZID=America/New_York:20250307T180000
DTEND;TZID=America/New_York:20250308T180000
DTSTAMP:20260421T113027
CREATED:20250128T203501Z
LAST-MODIFIED:20250128T203506Z
UID:4444-1741370400-1741456800@warrencoalition.org
SUMMARY:Warren County Unplugged
DESCRIPTION:A Global Day of Unplugging Event\n\n\n\nCheck out the many events being offered throughout Warren County as part of the Global Day of Unplugging! We encourage everyone to evaluate their relationship with their phones and other devices on this day. Consider building in some protected time\, whether it is 30 minutes or the full 24 hours\, to be free of social media and/or your phone! Learn more on our event page.
URL:https://warrencoalition.org/event/warren-county-unplugged/
END:VEVENT
END:VCALENDAR