BEGIN:VCALENDAR
VERSION:2.0
PRODID:-//Warren Coalition - ECPv6.15.11//NONSGML v1.0//EN
CALSCALE:GREGORIAN
METHOD:PUBLISH
X-WR-CALNAME:Warren Coalition
X-ORIGINAL-URL:https://warrencoalition.org
X-WR-CALDESC:Events for Warren Coalition
REFRESH-INTERVAL;VALUE=DURATION:PT1H
X-Robots-Tag:noindex
X-PUBLISHED-TTL:PT1H
BEGIN:VTIMEZONE
TZID:America/New_York
BEGIN:DAYLIGHT
TZOFFSETFROM:-0500
TZOFFSETTO:-0400
TZNAME:EDT
DTSTART:20240310T070000
END:DAYLIGHT
BEGIN:STANDARD
TZOFFSETFROM:-0400
TZOFFSETTO:-0500
TZNAME:EST
DTSTART:20241103T060000
END:STANDARD
BEGIN:DAYLIGHT
TZOFFSETFROM:-0500
TZOFFSETTO:-0400
TZNAME:EDT
DTSTART:20250309T070000
END:DAYLIGHT
BEGIN:STANDARD
TZOFFSETFROM:-0400
TZOFFSETTO:-0500
TZNAME:EST
DTSTART:20251102T060000
END:STANDARD
BEGIN:DAYLIGHT
TZOFFSETFROM:-0500
TZOFFSETTO:-0400
TZNAME:EDT
DTSTART:20260308T070000
END:DAYLIGHT
BEGIN:STANDARD
TZOFFSETFROM:-0400
TZOFFSETTO:-0500
TZNAME:EST
DTSTART:20261101T060000
END:STANDARD
END:VTIMEZONE
BEGIN:VEVENT
DTSTART;TZID=America/New_York:20250315T080000
DTEND;TZID=America/New_York:20250315T220000
DTSTAMP:20260421T153256
CREATED:20250218T195537Z
LAST-MODIFIED:20250218T201612Z
UID:4496-1742025600-1742076000@warrencoalition.org
SUMMARY:Edward Jones Race for Education 5K
DESCRIPTION:This annual race begins and ends at Warren County Middle School. The course follows the length of Leach Run Parkway and back. Registration begins at 8:00 am; the race will begin sharply at 9:00 am\, rain or shine. Walkers\, baby strollers\, and leashed dogs are welcome. Proceeds are split between Skyline High School and Warren County High School cross country teams and paying for dual-enrollment courses and AP testing fees.  \n\n\n\nLearn more on the Facebook page at facebook.com/EdwardJones5k\, or visit https://runsignup.com/Race/VA/FrontRoyal/EdwardJones to pre-register for the race. Early registration is currently $25 per adult participant and $20 for students; children four and under are free. The early bird registration prices are good through February 28th; after that\, costs will increase by $5. Same-day registrations will be accepted.
URL:https://warrencoalition.org/event/edward-jones-race-for-education-5k/
END:VEVENT
END:VCALENDAR