BEGIN:VCALENDAR
VERSION:2.0
PRODID:-//Warren Coalition - ECPv6.15.11//NONSGML v1.0//EN
CALSCALE:GREGORIAN
METHOD:PUBLISH
X-WR-CALNAME:Warren Coalition
X-ORIGINAL-URL:https://warrencoalition.org
X-WR-CALDESC:Events for Warren Coalition
REFRESH-INTERVAL;VALUE=DURATION:PT1H
X-Robots-Tag:noindex
X-PUBLISHED-TTL:PT1H
BEGIN:VTIMEZONE
TZID:America/New_York
BEGIN:DAYLIGHT
TZOFFSETFROM:-0500
TZOFFSETTO:-0400
TZNAME:EDT
DTSTART:20220313T070000
END:DAYLIGHT
BEGIN:STANDARD
TZOFFSETFROM:-0400
TZOFFSETTO:-0500
TZNAME:EST
DTSTART:20221106T060000
END:STANDARD
BEGIN:DAYLIGHT
TZOFFSETFROM:-0500
TZOFFSETTO:-0400
TZNAME:EDT
DTSTART:20230312T070000
END:DAYLIGHT
BEGIN:STANDARD
TZOFFSETFROM:-0400
TZOFFSETTO:-0500
TZNAME:EST
DTSTART:20231105T060000
END:STANDARD
BEGIN:DAYLIGHT
TZOFFSETFROM:-0500
TZOFFSETTO:-0400
TZNAME:EDT
DTSTART:20240310T070000
END:DAYLIGHT
BEGIN:STANDARD
TZOFFSETFROM:-0400
TZOFFSETTO:-0500
TZNAME:EST
DTSTART:20241103T060000
END:STANDARD
END:VTIMEZONE
BEGIN:VEVENT
DTSTART;TZID=America/New_York:20231026T180000
DTEND;TZID=America/New_York:20231026T200000
DTSTAMP:20260421T080307
CREATED:20231012T194621Z
LAST-MODIFIED:20231012T194622Z
UID:3424-1698343200-1698350400@warrencoalition.org
SUMMARY:Jack-O-Lantern Jubilee
DESCRIPTION:Join us at the Jack-O-Lantern Jubilee hosted by Warren County DSS and Warren County Parks & Recreation! It will be held at the Health & Human Services Complex (465 W 15th St)\, on the track. This event is free!
URL:https://warrencoalition.org/event/jack-o-lantern-jubilee/
CATEGORIES:Community Events
END:VEVENT
BEGIN:VEVENT
DTSTART;TZID=America/New_York:20231027T220000
DTEND;TZID=America/New_York:20231027T235900
DTSTAMP:20260421T080307
CREATED:20231003T192508Z
LAST-MODIFIED:20231003T192624Z
UID:3396-1698444000-1698451140@warrencoalition.org
SUMMARY:Midnight Monster Mash Cornhole Tournament
DESCRIPTION:High school students in Warren County are invited to participate in this cross between a costume party and a cornhole tournament!
URL:https://warrencoalition.org/event/event-midnight-cornhole/
CATEGORIES:Community Events
ATTACH;FMTTYPE=image/jpeg:https://warrencoalition.org/wp-content/uploads/2023/10/Cornhole-Revised-Twitter-Post-2.jpg
END:VEVENT
END:VCALENDAR