BEGIN:VCALENDAR
VERSION:2.0
PRODID:-//Warren Coalition - ECPv6.15.11//NONSGML v1.0//EN
CALSCALE:GREGORIAN
METHOD:PUBLISH
X-ORIGINAL-URL:https://warrencoalition.org
X-WR-CALDESC:Events for Warren Coalition
REFRESH-INTERVAL;VALUE=DURATION:PT1H
X-Robots-Tag:noindex
X-PUBLISHED-TTL:PT1H
BEGIN:VTIMEZONE
TZID:America/New_York
BEGIN:DAYLIGHT
TZOFFSETFROM:-0500
TZOFFSETTO:-0400
TZNAME:EDT
DTSTART:20210314T070000
END:DAYLIGHT
BEGIN:STANDARD
TZOFFSETFROM:-0400
TZOFFSETTO:-0500
TZNAME:EST
DTSTART:20211107T060000
END:STANDARD
BEGIN:DAYLIGHT
TZOFFSETFROM:-0500
TZOFFSETTO:-0400
TZNAME:EDT
DTSTART:20220313T070000
END:DAYLIGHT
BEGIN:STANDARD
TZOFFSETFROM:-0400
TZOFFSETTO:-0500
TZNAME:EST
DTSTART:20221106T060000
END:STANDARD
BEGIN:DAYLIGHT
TZOFFSETFROM:-0500
TZOFFSETTO:-0400
TZNAME:EDT
DTSTART:20230312T070000
END:DAYLIGHT
BEGIN:STANDARD
TZOFFSETFROM:-0400
TZOFFSETTO:-0500
TZNAME:EST
DTSTART:20231105T060000
END:STANDARD
END:VTIMEZONE
BEGIN:VEVENT
DTSTART;TZID=America/New_York:20221129T160000
DTEND;TZID=America/New_York:20221129T180000
DTSTAMP:20260420T203107
CREATED:20221109T174103Z
LAST-MODIFIED:20221129T130932Z
UID:2362-1669737600-1669744800@warrencoalition.org
SUMMARY:Family Bingo and Spaghetti Dinner
DESCRIPTION:
URL:https://warrencoalition.org/event/family-bingo-and-spaghetti-dinner/
LOCATION:Leslie Fox Keyser Elementary School\, 1015 Stonewall Dr.\, Front Royal\, Virginia\, 22630\, United States
CATEGORIES:Community Events
ATTACH;FMTTYPE=image/png:https://warrencoalition.org/wp-content/uploads/2022/11/Bingo-Flyer-LFK-22-8.5-×-11-in-4.25-×-5.5-in.png
END:VEVENT
END:VCALENDAR