BEGIN:VCALENDAR
VERSION:2.0
PRODID:-//Warren Coalition - ECPv6.15.11//NONSGML v1.0//EN
CALSCALE:GREGORIAN
METHOD:PUBLISH
X-WR-CALNAME:Warren Coalition
X-ORIGINAL-URL:https://warrencoalition.org
X-WR-CALDESC:Events for Warren Coalition
REFRESH-INTERVAL;VALUE=DURATION:PT1H
X-Robots-Tag:noindex
X-PUBLISHED-TTL:PT1H
BEGIN:VTIMEZONE
TZID:America/New_York
BEGIN:DAYLIGHT
TZOFFSETFROM:-0500
TZOFFSETTO:-0400
TZNAME:EDT
DTSTART:20210314T070000
END:DAYLIGHT
BEGIN:STANDARD
TZOFFSETFROM:-0400
TZOFFSETTO:-0500
TZNAME:EST
DTSTART:20211107T060000
END:STANDARD
BEGIN:DAYLIGHT
TZOFFSETFROM:-0500
TZOFFSETTO:-0400
TZNAME:EDT
DTSTART:20220313T070000
END:DAYLIGHT
BEGIN:STANDARD
TZOFFSETFROM:-0400
TZOFFSETTO:-0500
TZNAME:EST
DTSTART:20221106T060000
END:STANDARD
BEGIN:DAYLIGHT
TZOFFSETFROM:-0500
TZOFFSETTO:-0400
TZNAME:EDT
DTSTART:20230312T070000
END:DAYLIGHT
BEGIN:STANDARD
TZOFFSETFROM:-0400
TZOFFSETTO:-0500
TZNAME:EST
DTSTART:20231105T060000
END:STANDARD
BEGIN:DAYLIGHT
TZOFFSETFROM:-0500
TZOFFSETTO:-0400
TZNAME:EDT
DTSTART:20240310T070000
END:DAYLIGHT
BEGIN:STANDARD
TZOFFSETFROM:-0400
TZOFFSETTO:-0500
TZNAME:EST
DTSTART:20241103T060000
END:STANDARD
END:VTIMEZONE
BEGIN:VEVENT
DTSTART;TZID=America/New_York:20221217T180000
DTEND;TZID=America/New_York:20230331T070000
DTSTAMP:20260420T220631
CREATED:20221104T161731Z
LAST-MODIFIED:20221104T161734Z
UID:2314-1671300000-1680246000@warrencoalition.org
SUMMARY:Thermal Shelter of Front Royal
DESCRIPTION:The Thermal Shelter of Front Royal is a community-based organization partnering with our local churches to provide a winter homeless shelter to our adult homeless men and women with a warm\, safe place to sleep during the winter months.  
URL:https://warrencoalition.org/event/thermal-shelter-of-front-royal/
LOCATION:Front Royal Presbyterian Church\, 115 Luray Ave.\, Front Royal\, Virginia\, 22630\, United States
CATEGORIES:Community Events
END:VEVENT
END:VCALENDAR