BEGIN:VCALENDAR
VERSION:2.0
PRODID:-//Warren Coalition - ECPv6.15.11//NONSGML v1.0//EN
CALSCALE:GREGORIAN
METHOD:PUBLISH
X-ORIGINAL-URL:https://warrencoalition.org
X-WR-CALDESC:Events for Warren Coalition
REFRESH-INTERVAL;VALUE=DURATION:PT1H
X-Robots-Tag:noindex
X-PUBLISHED-TTL:PT1H
BEGIN:VTIMEZONE
TZID:America/New_York
BEGIN:DAYLIGHT
TZOFFSETFROM:-0500
TZOFFSETTO:-0400
TZNAME:EDT
DTSTART:20210314T070000
END:DAYLIGHT
BEGIN:STANDARD
TZOFFSETFROM:-0400
TZOFFSETTO:-0500
TZNAME:EST
DTSTART:20211107T060000
END:STANDARD
BEGIN:DAYLIGHT
TZOFFSETFROM:-0500
TZOFFSETTO:-0400
TZNAME:EDT
DTSTART:20220313T070000
END:DAYLIGHT
BEGIN:STANDARD
TZOFFSETFROM:-0400
TZOFFSETTO:-0500
TZNAME:EST
DTSTART:20221106T060000
END:STANDARD
BEGIN:DAYLIGHT
TZOFFSETFROM:-0500
TZOFFSETTO:-0400
TZNAME:EDT
DTSTART:20230312T070000
END:DAYLIGHT
BEGIN:STANDARD
TZOFFSETFROM:-0400
TZOFFSETTO:-0500
TZNAME:EST
DTSTART:20231105T060000
END:STANDARD
END:VTIMEZONE
BEGIN:VEVENT
DTSTART;TZID=America/New_York:20220806T193000
DTEND;TZID=America/New_York:20220806T213000
DTSTAMP:20260423T174210
CREATED:20220608T151804Z
LAST-MODIFIED:20220705T192942Z
UID:1824-1659814200-1659821400@warrencoalition.org
SUMMARY:Back to School Pool Party
DESCRIPTION:Our annual pool party for rising middle school students will be held on Saturday\, August 6th\, from 7:30 pm to 9:30 pm at the Claude A. Stokes Community Swimming Pool. This is the Saturday before classes begin! Supervision will be provided (volunteers are welcome!). Parents do not need to stay at this event but do need to pick up their children promptly.As always\, this is a free event. Music and fun are provided; refreshments are not.Participants (and volunteers) are encouraged to bring cans of corn\, black beans\, green beans\, or carrots to donate to the Linda G. Krull Family Feeding program. \n\n\n\nVolunteer opportunities available! Email christa@warrencoalition.org to volunteer.
URL:https://warrencoalition.org/event/back-to-school-pool-party/
LOCATION:Claude B Stokes Pool\, 1000 Stadium Dr\, Front Royal\, Virginia\, 22630
CATEGORIES:Community Events
ATTACH;FMTTYPE=image/png:https://warrencoalition.org/wp-content/uploads/2022/06/pool-party.png
END:VEVENT
BEGIN:VEVENT
DTSTART;TZID=America/New_York:20220804T000000
DTEND;TZID=America/New_York:20220804T235959
DTSTAMP:20260423T174210
CREATED:20220705T192802Z
LAST-MODIFIED:20220705T192818Z
UID:1907-1659571200-1659657599@warrencoalition.org
SUMMARY:Skyline High School Back-to-School Night
DESCRIPTION:Volunteer opportunities available! Email christa@warrencoalition.org to volunteer.
URL:https://warrencoalition.org/event/skyline-high-school-back-to-school-night/
CATEGORIES:Community Events
END:VEVENT
BEGIN:VEVENT
DTSTART;TZID=America/New_York:20220803T130000
DTEND;TZID=America/New_York:20220803T160000
DTSTAMP:20260423T174210
CREATED:20220705T193609Z
LAST-MODIFIED:20220705T193610Z
UID:1913-1659531600-1659542400@warrencoalition.org
SUMMARY:STI Testing
DESCRIPTION:
URL:https://warrencoalition.org/event/sti-testing-2/
CATEGORIES:Community Events
ATTACH;FMTTYPE=image/png:https://warrencoalition.org/wp-content/uploads/2022/07/STI-Testing.png
END:VEVENT
BEGIN:VEVENT
DTSTART;TZID=America/New_York:20220801T080000
DTEND;TZID=America/New_York:20220801T170000
DTSTAMP:20260423T174210
CREATED:20220721T185847Z
LAST-MODIFIED:20220721T190057Z
UID:1931-1659340800-1659373200@warrencoalition.org
SUMMARY:Youth Empowered for Success
DESCRIPTION:Attention Skyline High School and Warren County High School rising JUNIORS and SENIORS!!!! Reaching Out Now is partnering with Shenandoah University to provide students with a series of presentations and interactive panels around wellness\, networking\, and leadership skills. \n\n\n\nThis year’s tentative sessions are around: social media\, communication and advocating for yourself with respect\, wellness\, post-secondary opportunities\, and a tour of the college grounds. \n\n\n\nTransportation will be available to Winchester from Skyline High School. Continental breakfast will be provided and lunch will be served at the University’s Allen Dining Hall\, all is included in the registration costs. \n\n\n\nWhat: YES Conference (Youth Empowered for Success)Theme: “Finding Your Balance”Where: Stimpson Auditorium at Shenandoah University (Halpin-Harrison Hall 600 Millwood Ave\, Winchester\, VA)When: August 1\, 2022 from 8am – 5PMCost: $15Who: rising Seniors and Juniors in WCPSRegister: https://bit.ly/2022YesCon
URL:https://warrencoalition.org/event/youth-empowered-for-success/
CATEGORIES:Community Events
ATTACH;FMTTYPE=image/jpeg:https://warrencoalition.org/wp-content/uploads/2022/07/YES.jpg
END:VEVENT
BEGIN:VEVENT
DTSTART;TZID=America/New_York:20220731T000000
DTEND;TZID=America/New_York:20220806T235959
DTSTAMP:20260423T174210
CREATED:20220608T161335Z
LAST-MODIFIED:20220705T192523Z
UID:1828-1659225600-1659830399@warrencoalition.org
SUMMARY:Warren County Fair
DESCRIPTION:Volunteer opportunities available! Email christa@warrencoalition.org to volunteer. \n\n\n\nFor details about this year’s county fair\, please follow the link below to the fair website.
URL:https://warrencoalition.org/event/warren-county-fair/
CATEGORIES:Community Events
END:VEVENT
BEGIN:VEVENT
DTSTART;TZID=America/New_York:20220726T090000
DTEND;TZID=America/New_York:20220726T113000
DTSTAMP:20260423T174210
CREATED:20220722T181735Z
LAST-MODIFIED:20220722T181914Z
UID:1936-1658826000-1658835000@warrencoalition.org
SUMMARY:STI Testing
DESCRIPTION:
URL:https://warrencoalition.org/event/sti-testing-3/
CATEGORIES:Community Events
ATTACH;FMTTYPE=image/png:https://warrencoalition.org/wp-content/uploads/2022/07/STI-testing-at-St-Lukes.png
END:VEVENT
BEGIN:VEVENT
DTSTART;TZID=America/New_York:20220711T173000
DTEND;TZID=America/New_York:20220711T193000
DTSTAMP:20260423T174210
CREATED:20220617T210359Z
LAST-MODIFIED:20220705T192406Z
UID:1890-1657560600-1657567800@warrencoalition.org
SUMMARY:WECUWC Cookout
DESCRIPTION:As our first year of We See You\, Warren County winds down\, we decided it was high time we provided the opportunity for our WeCUWC members to meet up in person! We sent an invitation to all of our registered participants and also extended the invitation to our Facebook group members. While we know a lot of people will be traveling\, we look forward to spending time with those who are able to make it. Mark your calendar and make plans to join us at Shelter 1 at Gertrude E. Miller Park at 5:30 pm on Monday\, July 11th.RSVP to celeste@warrencoalition.org by July 6th
URL:https://warrencoalition.org/event/wecuwc-cookout/
LOCATION:Shelter #1 Gertrude Miller Park\, 905 Stadium Drive\, Front Royal\, Virginia\, United States
CATEGORIES:Community Events
ATTACH;FMTTYPE=image/png:https://warrencoalition.org/wp-content/uploads/2022/06/WeCUWC-Cook-out-Invitation.png
END:VEVENT
BEGIN:VEVENT
DTSTART;TZID=America/New_York:20220706T130000
DTEND;TZID=America/New_York:20220706T160000
DTSTAMP:20260423T174210
CREATED:20220705T193421Z
LAST-MODIFIED:20220705T193422Z
UID:1910-1657112400-1657123200@warrencoalition.org
SUMMARY:STI Testing
DESCRIPTION:
URL:https://warrencoalition.org/event/sti-testing/
CATEGORIES:Community Events
ATTACH;FMTTYPE=image/png:https://warrencoalition.org/wp-content/uploads/2022/07/STI-Testing.png
END:VEVENT
BEGIN:VEVENT
DTSTART;TZID=America/New_York:20220604T110000
DTEND;TZID=America/New_York:20220604T160000
DTSTAMP:20260423T174210
CREATED:20220520T190753Z
LAST-MODIFIED:20220520T191613Z
UID:1769-1654340400-1654358400@warrencoalition.org
SUMMARY:Gospel Music Festival
DESCRIPTION:FREE! | FOOD WILL BE AVAILABLE | FUN ACTIVITIES! | LIVE MUSIC!
URL:https://warrencoalition.org/event/gospel-festival/
LOCATION:Downtown Gazebo\, Main St.\, Front Royal\, Virginia
CATEGORIES:Community Events
ATTACH;FMTTYPE=image/jpeg:https://warrencoalition.org/wp-content/uploads/2022/05/Gospel-Music-Flyer.jpg
END:VEVENT
BEGIN:VEVENT
DTSTART;TZID=America/New_York:20220520T100000
DTEND;TZID=America/New_York:20220520T150000
DTSTAMP:20260423T174210
CREATED:20220516T200704Z
LAST-MODIFIED:20220516T201016Z
UID:1753-1653040800-1653058800@warrencoalition.org
SUMMARY:National Hepatitis Testing Day
DESCRIPTION:Free Hepatitis B & C testing \n\n\n\nFree fentanyl test strips \n\n\n\nFree safe injection supplies and nalaxone \n\n\n\nShenandoah Free Clinic Parking Lot   124 Valley Vista Drive\, Woodstock\, VA
URL:https://warrencoalition.org/event/national-hepatitis-testing-day/
LOCATION:Shenandoah Free Clinic\, 124 Valley Vista Drive\,\, Woodstock\, Virginia\, United States
CATEGORIES:Community Events,National Events
END:VEVENT
BEGIN:VEVENT
DTSTART;TZID=America/New_York:20220510T170000
DTEND;TZID=America/New_York:20220510T193000
DTSTAMP:20260423T174210
CREATED:20220309T212907Z
LAST-MODIFIED:20220429T181545Z
UID:1545-1652202000-1652211000@warrencoalition.org
SUMMARY:Rock and Stroll
DESCRIPTION:National Prevention Week is May 8th – 14th\, and to help promote healthy choices\, the Warren Coalition and Northwestern Prevention Collaborative are hosting a fun-filled event: Rock & Stroll! This free event will take place on Tuesday\, May 10th\, from 5:00 pm to 7:30 pm. Families will walk through the available stations\, which will feature a variety of games and activities for children aged 4-11. In addition to a dose of fun\, each station will impart a lesson on healthy living\, such as using breathing techniques to control your temper or drinking enough water to stay healthy.
URL:https://warrencoalition.org/event/rock-and-stroll/
CATEGORIES:Community Events
ATTACH;FMTTYPE=image/png:https://warrencoalition.org/wp-content/uploads/2022/04/Rock-Stroll-Email-ad-for-Royal-Examiner-640-×-333-px.png
ORGANIZER;CN="Ryan Cubbage":MAILTO:ryan@warrencoalition.org
END:VEVENT
BEGIN:VEVENT
DTSTART;TZID=America/New_York:20220507T100000
DTEND;TZID=America/New_York:20220507T180000
DTSTAMP:20260423T174210
CREATED:20220401T140846Z
LAST-MODIFIED:20220401T143352Z
UID:1677-1651917600-1651946400@warrencoalition.org
SUMMARY:Family Fun Day
DESCRIPTION:
URL:https://warrencoalition.org/event/family-fun-day-parade/
CATEGORIES:Community Events
END:VEVENT
BEGIN:VEVENT
DTSTART;TZID=America/New_York:20220503T080000
DTEND;TZID=America/New_York:20220507T170000
DTSTAMP:20260423T174210
CREATED:20220309T211729Z
LAST-MODIFIED:20220309T211729Z
UID:1542-1651564800-1651942800@warrencoalition.org
SUMMARY:Teacher Appreciation Week
DESCRIPTION:
URL:https://warrencoalition.org/event/teacher-appreciation-week/
CATEGORIES:Community Events
ATTACH;FMTTYPE=image/gif:https://warrencoalition.org/wp-content/uploads/2022/03/Kisses-of-Appreciation.gif
ORGANIZER;CN="Christa Shifflett":MAILTO:christa@warrencoalition.org
END:VEVENT
BEGIN:VEVENT
DTSTART;TZID=America/New_York:20220430T160000
DTEND;TZID=America/New_York:20220430T200000
DTSTAMP:20260423T174210
CREATED:20220401T164211Z
LAST-MODIFIED:20220401T164212Z
UID:1695-1651334400-1651348800@warrencoalition.org
SUMMARY:Safe at Home
DESCRIPTION:Reaching Out Now will host their community baseball event in conjunction with the Front Royal Cardinals and the Logan Maiatico Foundation. The Safe At Home – Logan Series Community Day will be held on April 30th\, 2022\, at Bing Crosby Stadium\, from 4PM – 8PM. \n\n\n\nThe event will feature three games between Warren County High School and Skyline High School students\, parents and coaches. There will also be games for children\, a 50/50 raffle\, and concessions. Warren County and Skyline High School students will also be supporting the event\, assisting with stands and entry. \n\n\n\nEntry is $5 for adults\, with children 13 and under free. \n\n\n\nThose who are interested in volunteering or sponsoring should reach out to info@reachingoutnow.org.
URL:https://warrencoalition.org/event/safe-at-home/
CATEGORIES:Community Events
END:VEVENT
BEGIN:VEVENT
DTSTART;TZID=America/New_York:20220423T180000
DTEND;TZID=America/New_York:20220423T180000
DTSTAMP:20260423T174210
CREATED:20220411T185029Z
LAST-MODIFIED:20220411T185442Z
UID:1706-1650736800-1650736800@warrencoalition.org
SUMMARY:A Taste for Books
DESCRIPTION:A Taste for Books has been held at SAMUELS PUBLIC LIBRARY every April since 2012. All proceeds go towards improving the resources the library offers to the community – like providing literacy programs\, buying new books\, hosting free programs\, or updating public computers. \n\n\n\nAttendance has increased each year\, with around 250 guests in 2019. Each year has a theme\, and this year it’s On the High Seas. It’s an evening event where local businesses\, community organizations and others volunteer to host buffet tables at the library featuring decorations and dishes inspired by all things nautical.
URL:https://warrencoalition.org/event/a-taste-for-books/
LOCATION:Samuels Public Library\, 330 East Criser Rd.\, Front Royal\, Virginia\, 22630\, United States
CATEGORIES:Community Events
END:VEVENT
BEGIN:VEVENT
DTSTART;TZID=America/New_York:20220423T110000
DTEND;TZID=America/New_York:20220423T150000
DTSTAMP:20260423T174210
CREATED:20220401T135241Z
LAST-MODIFIED:20220405T141635Z
UID:1671-1650711600-1650726000@warrencoalition.org
SUMMARY:Child Abuse Awareness Jubilee
DESCRIPTION:15th Street School – 465 West 15th St. on the football field. \n\n\n\nLive Music: Charlee Allman \n\n\n\nFREE event for the entire family: moon bounce\, phot booth\, face painting\, balloon art\, hula hoops\, arts & crafts\, character races\, hot dogs\, cotton candy\, popcorn\, C & C ice cream and local vendors. \n\n\n\nSpecial Guest: Bikers Against Child Abuse
URL:https://warrencoalition.org/event/childrens-jubilee/
LOCATION:15th Street School Football Field\, 465 West 15th Street\, Front Royal\, Virginia\, 22630
CATEGORIES:Community Events
END:VEVENT
BEGIN:VEVENT
DTSTART;TZID=America/New_York:20220405T154500
DTEND;TZID=America/New_York:20220405T170000
DTSTAMP:20260423T174210
CREATED:20220401T134958Z
LAST-MODIFIED:20220401T141506Z
UID:1669-1649173500-1649178000@warrencoalition.org
SUMMARY:Auditions: Youth Have Talent
DESCRIPTION:Warren County High School\, meet at the front office at 3:45pm
URL:https://warrencoalition.org/event/auditions-youth-have-talent-2/
CATEGORIES:Community Events
END:VEVENT
BEGIN:VEVENT
DTSTART;TZID=America/New_York:20220404T154500
DTEND;TZID=America/New_York:20220404T170000
DTSTAMP:20260423T174210
CREATED:20220401T134550Z
LAST-MODIFIED:20220401T141545Z
UID:1666-1649087100-1649091600@warrencoalition.org
SUMMARY:Auditions: Youth Have Talent
DESCRIPTION:Skyline High School room 226
URL:https://warrencoalition.org/event/auditions-youth-have-talent/
CATEGORIES:Community Events
END:VEVENT
BEGIN:VEVENT
DTSTART;TZID=America/New_York:20220312T080000
DTEND;TZID=America/New_York:20220312T100000
DTSTAMP:20260423T174210
CREATED:20220309T165708Z
LAST-MODIFIED:20220309T220653Z
UID:1530-1647072000-1647079200@warrencoalition.org
SUMMARY:Edward Jones 5K
DESCRIPTION:The 10th Annual Edward Jones 5k Run/Walk will be held at Rockland Park in Front Royal\, Virginia on Saturday\, March 25 at 8:00 am.\nThis year we have added a 10k run.\n\n\nThe proceeds benefit the College Access Network and the Warren County and Skyline High School Cross Country teams.\n\nREGISTER HERE
URL:https://warrencoalition.org/event/edward-jones-5k/
CATEGORIES:Community Events
ATTACH;FMTTYPE=image/png:https://warrencoalition.org/wp-content/uploads/2022/03/Edward-Jones.png
ORGANIZER;CN="Celeste Brooks":MAILTO:celeste@warrencoalition.org
END:VEVENT
BEGIN:VEVENT
DTSTART;VALUE=DATE:20220309
DTEND;VALUE=DATE:20220401
DTSTAMP:20260423T174210
CREATED:20220309T215242Z
LAST-MODIFIED:20220330T173040Z
UID:1554-1646784000-1648771199@warrencoalition.org
SUMMARY:Health Video Contest
DESCRIPTION:Warren County youth ages 11-14 are invited to participate in the Warren Coalition’s Health Video Contest\, running NOW through March 30th. Create a 30-second (or less) video promoting one of the following four healthy habits: \n-Getting Quality Sleep-Eating Healthy-Exercising Regularly-Drinking Water \nUpload the video to https://warrencoalition.org/health-video-contest between March 9th and March 30th. Winners from EACH category will receive a $125 Amazon Gift Card! \nSponsored by the Warren Coalition\, made possible by Project WAHOO\, funded by Virginia Foundation for Healthy Youth.
URL:https://warrencoalition.org/event/health-video-contest/
CATEGORIES:Community Events
ATTACH;FMTTYPE=image/jpeg:https://warrencoalition.org/wp-content/uploads/2021/07/Health-Video-Contest-1.jpg
ORGANIZER;CN="Ryan Cubbage":MAILTO:ryan@warrencoalition.org
END:VEVENT
END:VCALENDAR