BEGIN:VCALENDAR
VERSION:2.0
PRODID:-//Warren Coalition - ECPv6.15.11//NONSGML v1.0//EN
CALSCALE:GREGORIAN
METHOD:PUBLISH
X-ORIGINAL-URL:https://warrencoalition.org
X-WR-CALDESC:Events for Warren Coalition
REFRESH-INTERVAL;VALUE=DURATION:PT1H
X-Robots-Tag:noindex
X-PUBLISHED-TTL:PT1H
BEGIN:VTIMEZONE
TZID:America/New_York
BEGIN:DAYLIGHT
TZOFFSETFROM:-0500
TZOFFSETTO:-0400
TZNAME:EDT
DTSTART:20210314T070000
END:DAYLIGHT
BEGIN:STANDARD
TZOFFSETFROM:-0400
TZOFFSETTO:-0500
TZNAME:EST
DTSTART:20211107T060000
END:STANDARD
BEGIN:DAYLIGHT
TZOFFSETFROM:-0500
TZOFFSETTO:-0400
TZNAME:EDT
DTSTART:20220313T070000
END:DAYLIGHT
BEGIN:STANDARD
TZOFFSETFROM:-0400
TZOFFSETTO:-0500
TZNAME:EST
DTSTART:20221106T060000
END:STANDARD
BEGIN:DAYLIGHT
TZOFFSETFROM:-0500
TZOFFSETTO:-0400
TZNAME:EDT
DTSTART:20230312T070000
END:DAYLIGHT
BEGIN:STANDARD
TZOFFSETFROM:-0400
TZOFFSETTO:-0500
TZNAME:EST
DTSTART:20231105T060000
END:STANDARD
BEGIN:DAYLIGHT
TZOFFSETFROM:-0500
TZOFFSETTO:-0400
TZNAME:EDT
DTSTART:20240310T070000
END:DAYLIGHT
BEGIN:STANDARD
TZOFFSETFROM:-0400
TZOFFSETTO:-0500
TZNAME:EST
DTSTART:20241103T060000
END:STANDARD
END:VTIMEZONE
BEGIN:VEVENT
DTSTART;TZID=America/New_York:20230810T130000
DTEND;TZID=America/New_York:20230810T130000
DTSTAMP:20260421T223226
CREATED:20230718T161746Z
LAST-MODIFIED:20230718T161747Z
UID:3121-1691672400-1691672400@warrencoalition.org
SUMMARY:ACES
DESCRIPTION:What is ACES? It stands for “Adverse Childhood Experiences”. Childhood experiences\, both positive and negative\, have a tremendous impact on future violence\, victimization and perpetration\, as well as lifelong health and opportunity. As such\, adverse childhood experiences (ACEs) are an important public health issue. \n\n\n\nWhat’s the good news? Whether you’re a caretaker\, social worker\, parent\, prescriber\, teacher or friend\, you can be a part of the solution. When we all learn how take responsibility for preventing ACES\, everyone’s life can change.
URL:https://warrencoalition.org/event/aces-16/
CATEGORIES:Aces
ATTACH;FMTTYPE=image/png:https://warrencoalition.org/wp-content/uploads/2023/07/ACEs-Collaborative-Training-Flyer-8.5-11-in-REV-7-2023.png
END:VEVENT
BEGIN:VEVENT
DTSTART;TZID=America/New_York:20230413T130000
DTEND;TZID=America/New_York:20230413T160000
DTSTAMP:20260421T223226
CREATED:20230302T232309Z
LAST-MODIFIED:20230302T232311Z
UID:2766-1681390800-1681401600@warrencoalition.org
SUMMARY:ACES
DESCRIPTION:What is ACES? It stands for “Adverse Childhood Experiences”. Childhood experiences\, both positive and negative\, have a tremendous impact on future violence\, victimization and perpetration\, as well as lifelong health and opportunity. As such\, adverse childhood experiences (ACEs) are an important public health issue. \n\n\n\nWhat’s the good news? Whether you’re a caretaker\, social worker\, parent\, prescriber\, teacher or friend\, you can be a part of the solution. When we all learn how take responsibility for preventing ACES\, everyone’s life can change.
URL:https://warrencoalition.org/event/aces-15/
CATEGORIES:Aces
ATTACH;FMTTYPE=image/png:https://warrencoalition.org/wp-content/uploads/2023/03/Revive-and-Aces.png
END:VEVENT
BEGIN:VEVENT
DTSTART;TZID=America/New_York:20221213T090000
DTEND;TZID=America/New_York:20221213T120000
DTSTAMP:20260421T223226
CREATED:20221006T172739Z
LAST-MODIFIED:20221006T172741Z
UID:2248-1670922000-1670932800@warrencoalition.org
SUMMARY:ACES
DESCRIPTION:What is ACES? It stands for “Adverse Childhood Experiences”. Childhood experiences\, both positive and negative\, have a tremendous impact on future violence\, victimization and perpetration\, as well as lifelong health and opportunity. As such\, adverse childhood experiences (ACEs) are an important public health issue. \n\n\n\nWhat’s the good news? Whether you’re a caretaker\, social worker\, parent\, prescriber\, teacher or friend\, you can be a part of the solution. When we all learn how take responsibility for preventing ACES\, everyone’s life can change.
URL:https://warrencoalition.org/event/aces-14/
CATEGORIES:Aces
ATTACH;FMTTYPE=image/png:https://warrencoalition.org/wp-content/uploads/2022/03/ACEs.png
END:VEVENT
BEGIN:VEVENT
DTSTART;TZID=America/New_York:20221110T090000
DTEND;TZID=America/New_York:20221110T120000
DTSTAMP:20260421T223226
CREATED:20221006T172526Z
LAST-MODIFIED:20221006T172527Z
UID:2246-1668070800-1668081600@warrencoalition.org
SUMMARY:ACES
DESCRIPTION:What is ACES? It stands for “Adverse Childhood Experiences”. Childhood experiences\, both positive and negative\, have a tremendous impact on future violence\, victimization and perpetration\, as well as lifelong health and opportunity. As such\, adverse childhood experiences (ACEs) are an important public health issue. \n\n\n\nWhat’s the good news? Whether you’re a caretaker\, social worker\, parent\, prescriber\, teacher or friend\, you can be a part of the solution. When we all learn how take responsibility for preventing ACES\, everyone’s life can change.
URL:https://warrencoalition.org/event/aces-13/
CATEGORIES:Aces
ATTACH;FMTTYPE=image/png:https://warrencoalition.org/wp-content/uploads/2022/03/ACEs.png
END:VEVENT
BEGIN:VEVENT
DTSTART;TZID=America/New_York:20221101T090000
DTEND;TZID=America/New_York:20221101T120000
DTSTAMP:20260421T223226
CREATED:20221006T172225Z
LAST-MODIFIED:20221006T172226Z
UID:2244-1667293200-1667304000@warrencoalition.org
SUMMARY:ACES
DESCRIPTION:What is ACES? It stands for “Adverse Childhood Experiences”. Childhood experiences\, both positive and negative\, have a tremendous impact on future violence\, victimization and perpetration\, as well as lifelong health and opportunity. As such\, adverse childhood experiences (ACEs) are an important public health issue. \n\n\n\nWhat’s the good news? Whether you’re a caretaker\, social worker\, parent\, prescriber\, teacher or friend\, you can be a part of the solution. When we all learn how take responsibility for preventing ACES\, everyone’s life can change.
URL:https://warrencoalition.org/event/aces-12/
CATEGORIES:Aces
ATTACH;FMTTYPE=image/png:https://warrencoalition.org/wp-content/uploads/2022/03/ACEs.png
END:VEVENT
BEGIN:VEVENT
DTSTART;TZID=America/New_York:20221020T090000
DTEND;TZID=America/New_York:20221020T120000
DTSTAMP:20260421T223226
CREATED:20220816T172717Z
LAST-MODIFIED:20221006T171318Z
UID:2033-1666256400-1666267200@warrencoalition.org
SUMMARY:ACES
DESCRIPTION:What is ACES? It stands for “Adverse Childhood Experiences”. Childhood experiences\, both positive and negative\, have a tremendous impact on future violence\, victimization and perpetration\, as well as lifelong health and opportunity. As such\, adverse childhood experiences (ACEs) are an important public health issue. \n\n\n\nWhat’s the good news? Whether you’re a caretaker\, social worker\, parent\, prescriber\, teacher or friend\, you can be a part of the solution. When we all learn how take responsibility for preventing ACES\, everyone’s life can change.
URL:https://warrencoalition.org/event/aces-10/
CATEGORIES:Aces,Training
ATTACH;FMTTYPE=image/png:https://warrencoalition.org/wp-content/uploads/2022/03/ACEs.png
END:VEVENT
BEGIN:VEVENT
DTSTART;TZID=America/New_York:20221011T120000
DTEND;TZID=America/New_York:20221011T150000
DTSTAMP:20260421T223226
CREATED:20221006T171652Z
LAST-MODIFIED:20221006T171737Z
UID:2241-1665489600-1665500400@warrencoalition.org
SUMMARY:ACES
DESCRIPTION:What is ACES? It stands for “Adverse Childhood Experiences”. Childhood experiences\, both positive and negative\, have a tremendous impact on future violence\, victimization and perpetration\, as well as lifelong health and opportunity. As such\, adverse childhood experiences (ACEs) are an important public health issue. \n\n\n\nWhat’s the good news? Whether you’re a caretaker\, social worker\, parent\, prescriber\, teacher or friend\, you can be a part of the solution. When we all learn how take responsibility for preventing ACES\, everyone’s life can change.
URL:https://warrencoalition.org/event/aces-11/
CATEGORIES:Aces
ATTACH;FMTTYPE=image/png:https://warrencoalition.org/wp-content/uploads/2022/03/ACEs.png
END:VEVENT
BEGIN:VEVENT
DTSTART;TZID=America/New_York:20220908T090000
DTEND;TZID=America/New_York:20220908T120000
DTSTAMP:20260421T223226
CREATED:20220816T172154Z
LAST-MODIFIED:20221006T171212Z
UID:2030-1662627600-1662638400@warrencoalition.org
SUMMARY:ACES
DESCRIPTION:What is ACES? It stands for “Adverse Childhood Experiences”. Childhood experiences\, both positive and negative\, have a tremendous impact on future violence\, victimization and perpetration\, as well as lifelong health and opportunity. As such\, adverse childhood experiences (ACEs) are an important public health issue. \n\n\n\nWhat’s the good news? Whether you’re a caretaker\, social worker\, parent\, prescriber\, teacher or friend\, you can be a part of the solution. When we all learn how take responsibility for preventing ACES\, everyone’s life can change.
URL:https://warrencoalition.org/event/aces-6/
CATEGORIES:Aces
ATTACH;FMTTYPE=image/png:https://warrencoalition.org/wp-content/uploads/2022/03/ACEs.png
END:VEVENT
BEGIN:VEVENT
DTSTART;TZID=America/New_York:20220622T130000
DTEND;TZID=America/New_York:20220622T160000
DTSTAMP:20260421T223226
CREATED:20220401T142258Z
LAST-MODIFIED:20220620T161243Z
UID:1687-1655902800-1655913600@warrencoalition.org
SUMMARY:ACEs
DESCRIPTION:What is ACES? It stands for “Adverse Childhood Experiences”. Childhood experiences\, both positive and negative\, have a tremendous impact on future violence\, victimization and perpetration\, as well as lifelong health and opportunity. As such\, adverse childhood experiences (ACEs) are an important public health issue. \n\n\n\nWhat’s the good news? Whether you’re a caretaker\, social worker\, parent\, prescriber\, teacher or friend\, you can be a part of the solution. When we all learn how take responsibility for preventing ACES\, everyone’s life can change.
URL:https://warrencoalition.org/event/aces-9/
CATEGORIES:Aces
ATTACH;FMTTYPE=image/png:https://warrencoalition.org/wp-content/uploads/2022/03/ACEs.png
END:VEVENT
BEGIN:VEVENT
DTSTART;TZID=America/New_York:20220615T090000
DTEND;TZID=America/New_York:20220615T120000
DTSTAMP:20260421T223226
CREATED:20220401T142056Z
LAST-MODIFIED:20220401T142058Z
UID:1685-1655283600-1655294400@warrencoalition.org
SUMMARY:ACEs
DESCRIPTION:What is ACES? It stands for “Adverse Childhood Experiences”. Childhood experiences\, both positive and negative\, have a tremendous impact on future violence\, victimization and perpetration\, as well as lifelong health and opportunity. As such\, adverse childhood experiences (ACEs) are an important public health issue. \n\n\n\nWhat’s the good news? Whether you’re a caretaker\, social worker\, parent\, prescriber\, teacher or friend\, you can be a part of the solution. When we all learn how take responsibility for preventing ACES\, everyone’s life can change.
URL:https://warrencoalition.org/event/aces-8/
CATEGORIES:Aces
ATTACH;FMTTYPE=image/png:https://warrencoalition.org/wp-content/uploads/2022/03/ACEs.png
END:VEVENT
BEGIN:VEVENT
DTSTART;TZID=America/New_York:20220527T090000
DTEND;TZID=America/New_York:20220527T120000
DTSTAMP:20260421T223226
CREATED:20220401T141834Z
LAST-MODIFIED:20220401T141835Z
UID:1683-1653642000-1653652800@warrencoalition.org
SUMMARY:ACEs
DESCRIPTION:What is ACES? It stands for “Adverse Childhood Experiences”. Childhood experiences\, both positive and negative\, have a tremendous impact on future violence\, victimization and perpetration\, as well as lifelong health and opportunity. As such\, adverse childhood experiences (ACEs) are an important public health issue. \n\n\n\nWhat’s the good news? Whether you’re a caretaker\, social worker\, parent\, prescriber\, teacher or friend\, you can be a part of the solution. When we all learn how take responsibility for preventing ACES\, everyone’s life can change.
URL:https://warrencoalition.org/event/aces-7/
CATEGORIES:Aces
ATTACH;FMTTYPE=image/png:https://warrencoalition.org/wp-content/uploads/2022/03/ACEs.png
END:VEVENT
BEGIN:VEVENT
DTSTART;TZID=America/New_York:20220420T090000
DTEND;TZID=America/New_York:20220420T120000
DTSTAMP:20260421T223226
CREATED:20220401T140130Z
LAST-MODIFIED:20220401T141347Z
UID:1675-1650445200-1650456000@warrencoalition.org
SUMMARY:ACEs
DESCRIPTION:What is ACES? It stands for “Adverse Childhood Experiences”. Childhood experiences\, both positive and negative\, have a tremendous impact on future violence\, victimization and perpetration\, as well as lifelong health and opportunity. As such\, adverse childhood experiences (ACEs) are an important public health issue. \n\n\n\nWhat’s the good news? Whether you’re a caretaker\, social worker\, parent\, prescriber\, teacher or friend\, you can be a part of the solution. When we all learn how take responsibility for preventing ACES\, everyone’s life can change.
URL:https://warrencoalition.org/event/aces-5/
CATEGORIES:Aces
ATTACH;FMTTYPE=image/png:https://warrencoalition.org/wp-content/uploads/2022/03/ACEs.png
END:VEVENT
BEGIN:VEVENT
DTSTART;TZID=America/New_York:20220406T090000
DTEND;TZID=America/New_York:20220406T120000
DTSTAMP:20260421T223226
CREATED:20220401T135727Z
LAST-MODIFIED:20220401T141326Z
UID:1673-1649235600-1649246400@warrencoalition.org
SUMMARY:ACEs
DESCRIPTION:What is ACES? It stands for “Adverse Childhood Experiences”. Childhood experiences\, both positive and negative\, have a tremendous impact on future violence\, victimization and perpetration\, as well as lifelong health and opportunity. As such\, adverse childhood experiences (ACEs) are an important public health issue. \n\n\n\nWhat’s the good news? Whether you’re a caretaker\, social worker\, parent\, prescriber\, teacher or friend\, you can be a part of the solution. When we all learn how take responsibility for preventing ACES\, everyone’s life can change.
URL:https://warrencoalition.org/event/aces-4/
CATEGORIES:Aces
ATTACH;FMTTYPE=image/png:https://warrencoalition.org/wp-content/uploads/2022/03/ACEs.png
END:VEVENT
BEGIN:VEVENT
DTSTART;TZID=America/New_York:20220323T090000
DTEND;TZID=America/New_York:20220323T120000
DTSTAMP:20260421T223226
CREATED:20220309T221458Z
LAST-MODIFIED:20220309T221458Z
UID:1568-1648026000-1648036800@warrencoalition.org
SUMMARY:ACEs
DESCRIPTION:What is ACES? It stands for “Adverse Childhood Experiences”. Childhood experiences\, both positive and negative\, have a tremendous impact on future violence\, victimization and perpetration\, as well as lifelong health and opportunity. As such\, adverse childhood experiences (ACEs) are an important public health issue. \nWhat’s the good news? Whether you’re a caretaker\, social worker\, parent\, prescriber\, teacher or friend\, you can be a part of the solution. When we all learn how take responsibility for preventing ACES\, everyone’s life can change. Scroll down and watch the video below to learn more about ACEs and how you can register for trainings that can help you become more equipped to change more lives. \nREGISTER HERE
URL:https://warrencoalition.org/event/aces-3/
CATEGORIES:Aces
ATTACH;FMTTYPE=image/png:https://warrencoalition.org/wp-content/uploads/2022/03/ACEs.png
END:VEVENT
BEGIN:VEVENT
DTSTART;TZID=America/New_York:20220322T180000
DTEND;TZID=America/New_York:20220322T193000
DTSTAMP:20260421T223226
CREATED:20220309T221312Z
LAST-MODIFIED:20220309T221312Z
UID:1566-1647972000-1647977400@warrencoalition.org
SUMMARY:ACEs
DESCRIPTION:What is ACES? It stands for “Adverse Childhood Experiences”. Childhood experiences\, both positive and negative\, have a tremendous impact on future violence\, victimization and perpetration\, as well as lifelong health and opportunity. As such\, adverse childhood experiences (ACEs) are an important public health issue. \nWhat’s the good news? Whether you’re a caretaker\, social worker\, parent\, prescriber\, teacher or friend\, you can be a part of the solution. When we all learn how take responsibility for preventing ACES\, everyone’s life can change. Scroll down and watch the video below to learn more about ACEs and how you can register for trainings that can help you become more equipped to change more lives. \nREGISTER HERE
URL:https://warrencoalition.org/event/aces-2/
CATEGORIES:Aces
ATTACH;FMTTYPE=image/png:https://warrencoalition.org/wp-content/uploads/2022/03/ACEs.png
END:VEVENT
BEGIN:VEVENT
DTSTART;TZID=America/New_York:20220310T090000
DTEND;TZID=America/New_York:20220310T120000
DTSTAMP:20260421T223226
CREATED:20220309T221056Z
LAST-MODIFIED:20220309T221056Z
UID:1563-1646902800-1646913600@warrencoalition.org
SUMMARY:ACEs
DESCRIPTION:What is ACES? It stands for “Adverse Childhood Experiences”. Childhood experiences\, both positive and negative\, have a tremendous impact on future violence\, victimization and perpetration\, as well as lifelong health and opportunity. As such\, adverse childhood experiences (ACEs) are an important public health issue. \nWhat’s the good news? Whether you’re a caretaker\, social worker\, parent\, prescriber\, teacher or friend\, you can be a part of the solution. When we all learn how take responsibility for preventing ACES\, everyone’s life can change. Scroll down and watch the video below to learn more about ACEs and how you can register for trainings that can help you become more equipped to change more lives. \nREGISTER HERE
URL:https://warrencoalition.org/event/aces/
CATEGORIES:Aces
ATTACH;FMTTYPE=image/png:https://warrencoalition.org/wp-content/uploads/2022/03/ACEs.png
END:VEVENT
END:VCALENDAR