BEGIN:VCALENDAR
VERSION:2.0
PRODID:-//Warren Coalition - ECPv6.15.11//NONSGML v1.0//EN
CALSCALE:GREGORIAN
METHOD:PUBLISH
X-ORIGINAL-URL:https://warrencoalition.org
X-WR-CALDESC:Events for Warren Coalition
REFRESH-INTERVAL;VALUE=DURATION:PT1H
X-Robots-Tag:noindex
X-PUBLISHED-TTL:PT1H
BEGIN:VTIMEZONE
TZID:America/New_York
BEGIN:DAYLIGHT
TZOFFSETFROM:-0500
TZOFFSETTO:-0400
TZNAME:EDT
DTSTART:20230312T070000
END:DAYLIGHT
BEGIN:STANDARD
TZOFFSETFROM:-0400
TZOFFSETTO:-0500
TZNAME:EST
DTSTART:20231105T060000
END:STANDARD
BEGIN:DAYLIGHT
TZOFFSETFROM:-0500
TZOFFSETTO:-0400
TZNAME:EDT
DTSTART:20240310T070000
END:DAYLIGHT
BEGIN:STANDARD
TZOFFSETFROM:-0400
TZOFFSETTO:-0500
TZNAME:EST
DTSTART:20241103T060000
END:STANDARD
BEGIN:DAYLIGHT
TZOFFSETFROM:-0500
TZOFFSETTO:-0400
TZNAME:EDT
DTSTART:20250309T070000
END:DAYLIGHT
BEGIN:STANDARD
TZOFFSETFROM:-0400
TZOFFSETTO:-0500
TZNAME:EST
DTSTART:20251102T060000
END:STANDARD
END:VTIMEZONE
BEGIN:VEVENT
DTSTART;TZID=America/New_York:20240215T080000
DTEND;TZID=America/New_York:20240320T235900
DTSTAMP:20260421T153009
CREATED:20240221T181635Z
LAST-MODIFIED:20240313T162545Z
UID:3610-1707984000-1710979140@warrencoalition.org
SUMMARY:Health Video Contest 2024: Deadline Extended
DESCRIPTION:Warren County youth ages 11-14 are invited to participate in the Warren Coalition’s Health Video Contest\, running now through March 15th! To participate\, youth need to create a 15-second or 30-second video promoting one of the following four healthy habits: \n\n\n\n\nGetting Quality Sleep\n\n\n\nEating Healthy\n\n\n\nExercising Regularly\n\n\n\nDrinking Water\n\n\n\n\nParticipants can upload their original video to warrencoalition.org/health-video-contest between now and March 20th. (We recommend mp4 files for easiest upload.) Due to potential copyright issues\, music is not allowed. Winners from EACH category will receive a $125 gift card! Only residents of Warren County are eligible for this competition. All local students may participate\, whether they are homeschooled or enrolled in public or private school. \n\n\n\n\n\n\n\n\n\nThis event is sponsored by the Warren Coalition\, made possible by Project WAHOO (Working to Achieve Healthy Opportunities and Outcomes)\, funded by Virginia Foundation for Healthy Youth.  \n\n\n\nQuick Rules:  \n\n\n\n\nOpen to middle school aged children in Warren County\n\n\n\nOpen to public school\, private school\, and homeschool students\n\n\n\nVideos must be 15 seconds or 30 seconds\n\n\n\nNo music due to potential copyright issues\n\n\n\nDeadline extended to March 20th–this is the “drop dead” date\, no late submissions will be accepted\n\n\n\n\nFor questions or more information\, contact Gabriel Lee at gabriel@warrencoalition.org.
URL:https://warrencoalition.org/event/event-hvc-2024/
END:VEVENT
BEGIN:VEVENT
DTSTART;TZID=America/New_York:20240301T080000
DTEND;TZID=America/New_York:20240401T235900
DTSTAMP:20260421T153009
CREATED:20240313T164125Z
LAST-MODIFIED:20240313T184611Z
UID:3668-1709280000-1712015940@warrencoalition.org
SUMMARY:Youth Have Talent Virtual Auditions
DESCRIPTION:The Warren Coalition proudly presents the 2024 Youth Have Talent Contest! Middle and High school students from Warren County are invited to participate in this annual competition for cash prizes. Singers\, dancers\, musicians\, comedians (keep it clean!)\, jugglers—whatever talent you have\, this is your time to shine! \n\n\n\n\n\n\n\n\n\nThe Coalition is now accepting virtual auditions now through April 1\, 2024. Auditions (two minutes or less) may be submitted via the Warren Coalition website at https://warrencoalition.org/youth-have-talent-virtual-audition-form/. \n\n\n\nRules:  \n\n\n\n\nContestants MUST be between the ages of 11 and 18.\n\n\n\nContestants MUST be living in Warren County at the time of submission.\n\n\n\nNo swearing or using any kind of vulgar\, racist\, gender negative or explicit language throughout the submission.\n\n\n\nAll contestants must be fully clothed and not wear suggestive clothing.\n\n\n\nThere cannot be any weapon in the video. This includes guns\, knives\, or any kind of threatening prop that could be interpreted as dangerous or threatening.\n\n\n\nNo suggestive dancing.\n\n\n\nAbsolutely no reference to any kind of substance including but not limited to alcohol\, tobacco\, marijuana/cannabis\, pills\, etc.\n\n\n\nAny submissions showcasing the list above will result in immediate disqualification.\n\n\n\nThere will be two categories: music\, and non-music talent.\n\n\n\n\nThose selected from the auditions will go on to compete in a live show at 2 pm on Sunday\, April 14th at Warren County High School\, with cash prizes up for grabs! For more information\, contact Gabriel Lee at gabriel@warrencoalition.org.
URL:https://warrencoalition.org/event/yht-virtual-auditions-2024/
END:VEVENT
BEGIN:VEVENT
DTSTART;TZID=America/New_York:20240301T180600
DTEND;TZID=America/New_York:20240302T180700
DTSTAMP:20260421T153009
CREATED:20240126T172215Z
LAST-MODIFIED:20240126T172655Z
UID:3586-1709316360-1709402820@warrencoalition.org
SUMMARY:Warren County IRL
DESCRIPTION:As part of its “We See You\, Warren County” program\, Warren Coalition is calling the community to come together for Warren County IRL (In Real Life)\, a Global Day of Unplugging event that will be held from sundown\, March 1st to sundown\, March 2nd. This is a day created by Unplug Collaborative (unplugcollaborative.org)\, set aside for people to disconnect from phones and re-connect with themselves\, nature\, and especially with friends\, family\, and community—in person! \n\n\n\nStudies have shown that overuse of smart phones\, especially in relation to social media\, has a negative impact on our mental health and overall wellbeing. Warren County IRL participants are encouraged to unplug for a full 24 hours\, though they can commit to smaller timeframes. Throughout that time\, various businesses and organizations will be offering events\, activities\, programs\, prizes\, and/or discounts to help people engage IRL. \n\n\n\nFor more information\, visit the event web page.
URL:https://warrencoalition.org/event/warren-county-irl-2024/
CATEGORIES:Community Events,National Events
ATTACH;FMTTYPE=image/jpeg:https://warrencoalition.org/wp-content/uploads/2024/01/V1-Global-Day-of-Unplugging-2024-TV-Color-1920-x-1080-px-2.jpg
END:VEVENT
BEGIN:VEVENT
DTSTART;TZID=America/New_York:20240323T080000
DTEND;TZID=America/New_York:20240323T103000
DTSTAMP:20260421T153009
CREATED:20240221T183334Z
LAST-MODIFIED:20240221T183336Z
UID:3614-1711180800-1711189800@warrencoalition.org
SUMMARY:Edward Jones 5K Race for Education 2024
DESCRIPTION:Local high school athletes and students will once again benefit from the Edward Jones 5K Race for Education\, which will be held Saturday\, March 23rd at Warren County Middle School. This annual fundraiser\, led by Edward Jones and Warren Coalition\, supports the Warren County High School and Skyline High School cross country teams. It also provides scholarship funds the Warren Coalition awards to local high school students\, to cover Advanced Placement testing fees and dual enrollment classes at Laurel Ridge Community College. \n\n\n\nThe course follows the length of Leach Run Parkway and back. Registration begins at 8:00 am; the race will begin at 9:00 am. Walkers are welcome to register and participate in the camaraderie and supporting these local causes. Baby strollers and dogs are also welcome. \n\n\n\nSince its inception in 2007\, the Edward Jones 5K Race for Education has raised over $61\,000. \n\n\n\nLearn more on the Facebook page at facebook.com/EdwardJones5k\, or register at bit.ly/ej5k2024 (link is case-sensitive) to pre-register for the race. Early registration is currently $25 per adult participant and $20 for students; the cost will increase to $30 for adults on March 1st and $25 for students on March 8th. Same-day registrations will be accepted.
URL:https://warrencoalition.org/event/ej5k-2024/
END:VEVENT
BEGIN:VEVENT
DTSTART;TZID=America/New_York:20240328T100000
DTEND;TZID=America/New_York:20240328T110000
DTSTAMP:20260421T153009
CREATED:20231219T204030Z
LAST-MODIFIED:20231219T211223Z
UID:3516-1711620000-1711623600@warrencoalition.org
SUMMARY:Adult Needs Committee
DESCRIPTION:Various organizations come together to discuss the gaps in service in Warren County\, and how we can help. Current issues being addressed include housing\, transportation\, and food insecurity. Anyone interested in joining in the conversation is welcome to attend. This meeting is virtual. Email christa@warrencoalition.org to request the meeting link.
URL:https://warrencoalition.org/event/adult-needs-committee-2/
CATEGORIES:Meetings
END:VEVENT
BEGIN:VEVENT
DTSTART;TZID=America/New_York:20240328T120000
DTEND;TZID=America/New_York:20240328T130000
DTSTAMP:20260421T153009
CREATED:20231219T205034Z
LAST-MODIFIED:20231219T211216Z
UID:3524-1711627200-1711630800@warrencoalition.org
SUMMARY:Children & Families Committee
DESCRIPTION:We work with organizations across Warren County to address the needs of our children\, from healthy eating and exercise to drug education and building resilience skills. The work of this committee is event-focused\, because the best way to teach children is to help them have fun while learning. Events include Resilience Bingo and Celebrate Kids Day\, among others. This meeting is virtual. Email christa@warrencoalition.org to request the link.
URL:https://warrencoalition.org/event/children-families-committee-3/
CATEGORIES:Meetings
END:VEVENT
END:VCALENDAR