BEGIN:VCALENDAR
VERSION:2.0
PRODID:-//Warren Coalition - ECPv6.15.11//NONSGML v1.0//EN
CALSCALE:GREGORIAN
METHOD:PUBLISH
X-WR-CALNAME:Warren Coalition
X-ORIGINAL-URL:https://warrencoalition.org
X-WR-CALDESC:Events for Warren Coalition
REFRESH-INTERVAL;VALUE=DURATION:PT1H
X-Robots-Tag:noindex
X-PUBLISHED-TTL:PT1H
BEGIN:VTIMEZONE
TZID:America/New_York
BEGIN:DAYLIGHT
TZOFFSETFROM:-0500
TZOFFSETTO:-0400
TZNAME:EDT
DTSTART:20230312T070000
END:DAYLIGHT
BEGIN:STANDARD
TZOFFSETFROM:-0400
TZOFFSETTO:-0500
TZNAME:EST
DTSTART:20231105T060000
END:STANDARD
BEGIN:DAYLIGHT
TZOFFSETFROM:-0500
TZOFFSETTO:-0400
TZNAME:EDT
DTSTART:20240310T070000
END:DAYLIGHT
BEGIN:STANDARD
TZOFFSETFROM:-0400
TZOFFSETTO:-0500
TZNAME:EST
DTSTART:20241103T060000
END:STANDARD
BEGIN:DAYLIGHT
TZOFFSETFROM:-0500
TZOFFSETTO:-0400
TZNAME:EDT
DTSTART:20250309T070000
END:DAYLIGHT
BEGIN:STANDARD
TZOFFSETFROM:-0400
TZOFFSETTO:-0500
TZNAME:EST
DTSTART:20251102T060000
END:STANDARD
END:VTIMEZONE
BEGIN:VEVENT
DTSTART;TZID=America/New_York:20240512T080000
DTEND;TZID=America/New_York:20240524T120000
DTSTAMP:20260421T211556
CREATED:20240522T125209Z
LAST-MODIFIED:20240522T125210Z
UID:3840-1715500800-1716552000@warrencoalition.org
SUMMARY:Fundraising Drive for Emergency Shelter for Women & Children
DESCRIPTION:Make a donation and you’ll be entered into a drawing for some great prizes! Together with other local agencies\, we are requesting donations to support the homeless women and children in our community! Because there is currently no facility for them\, we use the funds to place them in local motels for a few weeks while they seek long-term housing. \n\n\n\n\n\n\n\nWe have more than a dozen gift cards and prizes\, including handmade blanket\, a picnic basket set\, wine\, and more. And yes\, you can win multiple prizes! A $5 donation receives 1 prize entry\, $20 receives 5 entries. The more you donate\, the more entries you receive! To support the women and children in Warren County\, go to our donation page and in the notes section of the donation form\, select “Emergency Shelter for Women and Children.” You can also drop off a check (made out to Warren Coalition) to the Warren Coalition Offices at 538 Villa Ave. (If we aren’t there\, slip it under the door.) \n\n\n\n\n\n\n\nRemember\, the drawing will take place this Friday\, May 24th\, at 12 noon! \n\n\n\nOur partners in this endeavor are: \n\n\n\nPhoenix ProjectBlue Ridge Housing Network\, Inc.Bridge of Hope\, Greater Warren Warren County\, VA Habitat for HumanityWarren County Virginia Dept. of Social ServicesHope and Rest Temporary Shelter
URL:https://warrencoalition.org/event/fundraising-drive-for-emergency-shelter-for-women-children/
END:VEVENT
BEGIN:VEVENT
DTSTART;TZID=America/New_York:20240530T120000
DTEND;TZID=America/New_York:20240530T130000
DTSTAMP:20260421T211556
CREATED:20231219T205616Z
LAST-MODIFIED:20240425T171049Z
UID:3530-1717070400-1717074000@warrencoalition.org
SUMMARY:Coalition Membership Meeting
DESCRIPTION:Coalition members are expected to attend and participate in the quarterly in-person membership meetings. Members receive an update about programs and events and have the opportunity to share ideas and feedback. Guest speakers are sometimes brought in to address current trends. Lunch is provided. Meeting dates/times are subject to change.
URL:https://warrencoalition.org/event/coalition-membership-meeting-2/
CATEGORIES:Meetings
END:VEVENT
END:VCALENDAR