BEGIN:VCALENDAR
VERSION:2.0
PRODID:-//Warren Coalition - ECPv6.15.11//NONSGML v1.0//EN
CALSCALE:GREGORIAN
METHOD:PUBLISH
X-WR-CALNAME:Warren Coalition
X-ORIGINAL-URL:https://warrencoalition.org
X-WR-CALDESC:Events for Warren Coalition
REFRESH-INTERVAL;VALUE=DURATION:PT1H
X-Robots-Tag:noindex
X-PUBLISHED-TTL:PT1H
BEGIN:VTIMEZONE
TZID:America/New_York
BEGIN:DAYLIGHT
TZOFFSETFROM:-0500
TZOFFSETTO:-0400
TZNAME:EDT
DTSTART:20230312T070000
END:DAYLIGHT
BEGIN:STANDARD
TZOFFSETFROM:-0400
TZOFFSETTO:-0500
TZNAME:EST
DTSTART:20231105T060000
END:STANDARD
BEGIN:DAYLIGHT
TZOFFSETFROM:-0500
TZOFFSETTO:-0400
TZNAME:EDT
DTSTART:20240310T070000
END:DAYLIGHT
BEGIN:STANDARD
TZOFFSETFROM:-0400
TZOFFSETTO:-0500
TZNAME:EST
DTSTART:20241103T060000
END:STANDARD
BEGIN:DAYLIGHT
TZOFFSETFROM:-0500
TZOFFSETTO:-0400
TZNAME:EDT
DTSTART:20250309T070000
END:DAYLIGHT
BEGIN:STANDARD
TZOFFSETFROM:-0400
TZOFFSETTO:-0500
TZNAME:EST
DTSTART:20251102T060000
END:STANDARD
END:VTIMEZONE
BEGIN:VEVENT
DTSTART;TZID=America/New_York:20240610T120000
DTEND;TZID=America/New_York:20240610T120000
DTSTAMP:20260421T140101
CREATED:20240605T205809Z
LAST-MODIFIED:20240605T205811Z
UID:3859-1718020800-1718020800@warrencoalition.org
SUMMARY:Celebrations! Newsletter Submissions Due
DESCRIPTION:Submit your good news and/or photos to celeste@warrencoalition.org for this month’s Celebrations! newsletter.
URL:https://warrencoalition.org/event/celebrations-newsletter-submissions-due/
END:VEVENT
BEGIN:VEVENT
DTSTART;TZID=America/New_York:20240615T110000
DTEND;TZID=America/New_York:20240615T180000
DTSTAMP:20260421T140101
CREATED:20240605T204933Z
LAST-MODIFIED:20240605T204936Z
UID:3853-1718449200-1718474400@warrencoalition.org
SUMMARY:3rd Annual Gospel Festival
DESCRIPTION:Join us in Downtown Front Royal for the 3rd Annual Gospel Festival\, hosted by Habitat for Humanity! Come by our booth to play Resilience Jenga\, pick up some resilience games for the kids\, sign up the little ones for free books from Dolly Parton’s Imagination Library\, and learn about all that’s going on at the Coalition!
URL:https://warrencoalition.org/event/3rd-annual-gospel-festival/
END:VEVENT
BEGIN:VEVENT
DTSTART;TZID=America/New_York:20240625T120000
DTEND;TZID=America/New_York:20240625T120000
DTSTAMP:20260421T140101
CREATED:20240605T210009Z
LAST-MODIFIED:20240605T210011Z
UID:3861-1719316800-1719316800@warrencoalition.org
SUMMARY:Roundtable Submissions Due
DESCRIPTION:The Coalition Roundtable is a newsletter for all members to share important updates and upcoming events. Send your submission to celeste@warrencoalition.org.
URL:https://warrencoalition.org/event/roundtable-submissions-due/
END:VEVENT
BEGIN:VEVENT
DTSTART;TZID=America/New_York:20240627T100000
DTEND;TZID=America/New_York:20240627T110000
DTSTAMP:20260421T140101
CREATED:20240425T182439Z
LAST-MODIFIED:20240425T182733Z
UID:3786-1719482400-1719486000@warrencoalition.org
SUMMARY:Adult Needs Committee
DESCRIPTION:Those interested in addressing housing\, food\, and transportation issues in our community are welcome to attend this virtual meeting. Contact christa@warrencoalition.org for the link.
URL:https://warrencoalition.org/event/adult-needs-committee-4/
END:VEVENT
BEGIN:VEVENT
DTSTART;TZID=America/New_York:20240627T120000
DTEND;TZID=America/New_York:20240627T130000
DTSTAMP:20260421T140101
CREATED:20240425T182630Z
LAST-MODIFIED:20240425T182632Z
UID:3788-1719489600-1719493200@warrencoalition.org
SUMMARY:Children & Families Committee Meeting
DESCRIPTION:Those interested in developing programs for children and families in our community are welcome to attend this virtual meeting. Contact christa@warrencoalition.org for the link.
URL:https://warrencoalition.org/event/children-families-committee-meeting/
END:VEVENT
END:VCALENDAR