BEGIN:VCALENDAR
VERSION:2.0
PRODID:-//Warren Coalition - ECPv6.15.11//NONSGML v1.0//EN
CALSCALE:GREGORIAN
METHOD:PUBLISH
X-WR-CALNAME:Warren Coalition
X-ORIGINAL-URL:https://warrencoalition.org
X-WR-CALDESC:Events for Warren Coalition
REFRESH-INTERVAL;VALUE=DURATION:PT1H
X-Robots-Tag:noindex
X-PUBLISHED-TTL:PT1H
BEGIN:VTIMEZONE
TZID:America/New_York
BEGIN:DAYLIGHT
TZOFFSETFROM:-0500
TZOFFSETTO:-0400
TZNAME:EDT
DTSTART:20230312T070000
END:DAYLIGHT
BEGIN:STANDARD
TZOFFSETFROM:-0400
TZOFFSETTO:-0500
TZNAME:EST
DTSTART:20231105T060000
END:STANDARD
BEGIN:DAYLIGHT
TZOFFSETFROM:-0500
TZOFFSETTO:-0400
TZNAME:EDT
DTSTART:20240310T070000
END:DAYLIGHT
BEGIN:STANDARD
TZOFFSETFROM:-0400
TZOFFSETTO:-0500
TZNAME:EST
DTSTART:20241103T060000
END:STANDARD
BEGIN:DAYLIGHT
TZOFFSETFROM:-0500
TZOFFSETTO:-0400
TZNAME:EDT
DTSTART:20250309T070000
END:DAYLIGHT
BEGIN:STANDARD
TZOFFSETFROM:-0400
TZOFFSETTO:-0500
TZNAME:EST
DTSTART:20251102T060000
END:STANDARD
END:VTIMEZONE
BEGIN:VEVENT
DTSTART;TZID=America/New_York:20240806T170000
DTEND;TZID=America/New_York:20240806T200000
DTSTAMP:20260421T140055
CREATED:20240606T142404Z
LAST-MODIFIED:20240606T142407Z
UID:3869-1722963600-1722974400@warrencoalition.org
SUMMARY:National Night Out
DESCRIPTION:A national celebration of law enforcement and public safety! Stop by our booth in downtown Front Royal for drug safety information\, to learn how to build resilience in your child\, or to register young children for free books from Dolly Parton’s Imagination Library.
URL:https://warrencoalition.org/event/national-night-out-3/
END:VEVENT
BEGIN:VEVENT
DTSTART;TZID=America/New_York:20240809T120000
DTEND;TZID=America/New_York:20240809T120000
DTSTAMP:20260421T140056
CREATED:20240606T144421Z
LAST-MODIFIED:20240606T144424Z
UID:3880-1723204800-1723204800@warrencoalition.org
SUMMARY:Celebrations! Submissions Due
DESCRIPTION:Celebrations! is a bi-monthly newsletter for staff and members to share good news in their lives–things like birthdays\, anniversaries\, accomplishments\, achievements\, awards\, graduations\, vacations\, etc. If it is news that makes you happy\, it is a celebration! Submit your good news and/or photos to celeste@warrencoalition.org for this month’s Celebrations! newsletter.
URL:https://warrencoalition.org/event/celebrations-submissions-due/
END:VEVENT
BEGIN:VEVENT
DTSTART;TZID=America/New_York:20240810T100000
DTEND;TZID=America/New_York:20240810T140000
DTSTAMP:20260421T140056
CREATED:20240821T150358Z
LAST-MODIFIED:20240821T150402Z
UID:4032-1723284000-1723298400@warrencoalition.org
SUMMARY:WCPS Community Fun Day
DESCRIPTION:We are sponsoring the obstacle course and hosting a tent full of fun at Warren County High School! Come on out and see us!
URL:https://warrencoalition.org/event/wcps-community-fun-day/
CATEGORIES:Community Events
END:VEVENT
BEGIN:VEVENT
DTSTART;TZID=America/New_York:20240811T193000
DTEND;TZID=America/New_York:20240811T213000
DTSTAMP:20260421T140056
CREATED:20240606T142840Z
LAST-MODIFIED:20240702T153607Z
UID:3872-1723404600-1723411800@warrencoalition.org
SUMMARY:Pool Party for Middle School Students
DESCRIPTION:The Warren Coalition is proud to present the annual Pool Party for Middle School Students! This free event is for ALL Warren County students entering grades six through eight in the fall of 2024\, including public school\, private school\, and homeschool students. For more information\, view the media release.
URL:https://warrencoalition.org/event/pool-party-for-middle-school-students/
END:VEVENT
BEGIN:VEVENT
DTSTART;TZID=America/New_York:20240827T120000
DTEND;TZID=America/New_York:20240827T120000
DTSTAMP:20260421T140056
CREATED:20240606T143809Z
LAST-MODIFIED:20240606T143812Z
UID:3878-1724760000-1724760000@warrencoalition.org
SUMMARY:Roundtable Submissions Due
DESCRIPTION:The Coalition Roundtable is a newsletter for all members to share important updates and upcoming events. Send your submission to celeste@warrencoalition.org.
URL:https://warrencoalition.org/event/roundtable-deadline-aug2024/
END:VEVENT
BEGIN:VEVENT
DTSTART;TZID=America/New_York:20240829T120000
DTEND;TZID=America/New_York:20240829T130000
DTSTAMP:20260421T140056
CREATED:20240606T143049Z
LAST-MODIFIED:20240606T143118Z
UID:3874-1724932800-1724936400@warrencoalition.org
SUMMARY:Coalition Member Meeting
DESCRIPTION:All Coalition members are invited to attend this in-person meeting. Lunch is provided. A virtual option is available for those unable to attend in person.
URL:https://warrencoalition.org/event/coalition-member-meeting-aug2024/
END:VEVENT
BEGIN:VEVENT
DTSTART;TZID=America/New_York:20240831T000000
DTEND;TZID=America/New_York:20240831T235900
DTSTAMP:20260421T140056
CREATED:20240606T143529Z
LAST-MODIFIED:20240606T143532Z
UID:3876-1725062400-1725148740@warrencoalition.org
SUMMARY:International Overdose Awareness Day
DESCRIPTION:A day in which we recognize and remember those lost to overdoses\, and reach out to support those left behind. We will list community events happening as we learn of them.
URL:https://warrencoalition.org/event/ioad-2024/
END:VEVENT
END:VCALENDAR